BEGIN:VCALENDAR
VERSION:2.0
PRODID:-//wp-events-plugin.com//7.2.3.1//EN
BEGIN:VEVENT
UID:1-20082@altemu.de
DTSTART:20251206T140000Z
DTEND:20251206T170000Z
DTSTAMP:20251111T134941Z
URL:https://altemu.de/events/workshop-fadenbilder-bauen/
SUMMARY:Workshop: Fadenbilder bauen
DESCRIPTION:In unserem Workshop bauen wir uns Fadenbilder\, also Bilder aus
  Holz\, Nägeln und Bindfaden. Kinder sind mit betreuender Person herzlich
  willkommen!
ATTACH;FMTTYPE=image/jpeg:https://altemu.de/wp-content/uploads/2025/05/Vor
 lage_Beitragsbild-Website_Workshop.png
END:VEVENT
END:VCALENDAR