BEGIN:VCALENDAR
VERSION:2.0
PRODID:-//wp-events-plugin.com//7.2.3.1//EN
BEGIN:VEVENT
UID:1-20051@altemu.de
DTSTART:20251203T180000Z
DTEND:20251203T190000Z
DTSTAMP:20251023T100435Z
URL:https://altemu.de/events/pilates-mit-saskia-nora-2025-12-03/
SUMMARY:Pilates mit Saskia Nora
DESCRIPTION:Ganzheitliches Training für Körper und Geist im Pilateskurs v
 on Saskia Nora. Mit Übungen zur Stärkung der Körpermitte\, besseren Hal
 tung und mehr Beweglichkeit. In entspannter Atmosphäre werden Tiefenmusku
 latur und Achtsamkeit gefördert – ideal für Einsteiger*innen und Geüb
 te.
ATTACH;FMTTYPE=image/jpeg:https://altemu.de/wp-content/uploads/2025/10/Tit
 elbild_Yoga-Pilates-und-Flows.png
END:VEVENT
END:VCALENDAR