BEGIN:VCALENDAR
VERSION:2.0
PRODID:-//wp-events-plugin.com//7.2.3.1//EN
BEGIN:VEVENT
UID:1-20814@altemu.de
DTSTART:20260128T190000Z
DTEND:20260128T190000Z
DTSTAMP:20260409T074638Z
URL:https://altemu.de/events/muhaha-im-fkk-2026-01-28/
SUMMARY:Muhaha im FKK: Stand-Up Comedy Open Mic
DESCRIPTION:Muhaha: Das ist Comedy vom Feinsten – oder halt nicht. Es ist
  ein Open Mic. Alte Hasen und frische Talente probieren neuen lustigen Kra
 m und bereiten euch 'nen geilen Abend. Anmeldungen willkommen!
ATTACH;FMTTYPE=image/jpeg:https://altemu.de/wp-content/uploads/2024/04/FKK
 _Muhaha.png
END:VEVENT
END:VCALENDAR