BEGIN:VCALENDAR
VERSION:2.0
PRODID:-//wp-events-plugin.com//7.2.3.1//EN
BEGIN:VEVENT
UID:1-20091@altemu.de
DTSTART:20251219T140000Z
DTEND:20251220T160000Z
DTSTAMP:20251204T132140Z
URL:https://altemu.de/events/ausstellung-album-4/
SUMMARY:Ausstellung: ALBUM
DESCRIPTION:8 Räume – 8 Songs\, ein begehbares Album von Lucas Winterhal
 ter. Die Ausstellung überführt ein Musikalbum in eine räumliche Install
 ation: Jeder Song erhält eine eigene Umgebung\, in der Klang\, Bild und d
 okumentarische Materialien zusammengeführt werden. So entsteht eine Struk
 tur zwischen individueller Hörerfahrung und gemeinsamer räumlicher Wahrn
 ehmung
ATTACH;FMTTYPE=image/jpeg:https://altemu.de/wp-content/uploads/2025/12/251
 212_Ausstellung-ALBUM.png
END:VEVENT
END:VCALENDAR